View In:
ArcGIS JavaScript
EEA Discomap Portal
ArcGIS Earth
Service Description: A 10m high resolution raster layer containing height information is generated for core urban areas of the EEA39 Capitals as part of the Urban atlas. Height information is based on IRS-P5 stereo images and derived datasets like the digital surface model, the digital terrain model and the normalized DSM.
Name: UrbanAtlas/UA_BuildingHeights_2012_10m
Description: A 10m high resolution raster layer containing height information is generated for core urban areas of the EEA39 Capitals as part of the Urban atlas. Height information is based on IRS-P5 stereo images and derived datasets like the digital surface model, the digital terrain model and the normalized DSM.
Single Fused Map Cache: false
Extent:
XMin: 1715000.0
YMin: 951380.0
XMax: 7154880.0
YMax: 5232200.0
Spatial Reference: 3035
(3035)
LatestVCSWkid(0)
Initial Extent:
XMin: 1715000.0
YMin: 951380.0
XMax: 7154880.0
YMax: 5232200.0
Spatial Reference: 3035
(3035)
LatestVCSWkid(0)
Full Extent:
XMin: 1715000.0
YMin: 951380.0
XMax: 7154880.0
YMax: 5232200.0
Spatial Reference: 3035
(3035)
LatestVCSWkid(0)
Pixel Size X: 10.0
Pixel Size Y: 10.0
Band Count: 1
Pixel Type: U16
RasterFunction Infos: {"rasterFunctionInfos": [{
"name": "None",
"description": "Make a Raster or Raster Dataset into a Function Raster Dataset.",
"help": ""
}]}
Mensuration Capabilities:
Inspection Capabilities:
Has Histograms: true
Has Colormap: false
Has Multi Dimensions : false
Rendering Rule:
Min Scale: 0
Max Scale: 0
Copyright Text: European Environment Agency
Service Data Type: esriImageServiceDataTypeThematic
Min Values: 1
Max Values: 368
Mean Values: 3.1731085211649
Standard Deviation Values: 1.740951967488
Object ID Field:
Fields:
None
Default Mosaic Method: Northwest
Allowed Mosaic Methods: NorthWest,Center,LockRaster,ByAttribute,Nadir,Viewpoint,Seamline,None
SortField:
SortValue: null
Mosaic Operator: First
Default Compression Quality: 75
Default Resampling Method: Nearest
Max Record Count: 1000
Max Image Height: 4100
Max Image Width: 15000
Max Download Image Count: 0
Max Mosaic Image Count: 20
Allow Raster Function: true
Allow Copy: true
Allow Analysis: true
Allow Compute TiePoints: false
Supports Statistics: false
Supports Advanced Queries: false
Use StandardizedQueries: true
Raster Type Infos:
Name: Raster Dataset
Description: Supports all ArcGIS Raster Datasets
Help:
Has Raster Attribute Table: true
Edit Fields Info: null
Ownership Based AccessControl For Rasters: null
Child Resources:
Info
Raster Attribute Table
Histograms
Statistics
Key Properties
Legend
Raster Function Infos
Supported Operations:
Export Image
Query
Identify
Compute Histograms
Compute Statistics Histograms
Get Samples
Compute Class Statistics
Query GPS Info
Find Images
Image to Map
Map to Image
Measure from Image
Image to Map Multiray
Query Boundary
Compute Pixel Location
Compute Angles
Validate
Project